BEGIN:VCALENDAR
VERSION:2.0
PRODID:-//Spokane/CDA HHH - ECPv6.15.20//NONSGML v1.0//EN
CALSCALE:GREGORIAN
METHOD:PUBLISH
X-WR-CALNAME:Spokane/CDA HHH
X-ORIGINAL-URL:https://spokanehhh.com
X-WR-CALDESC:Events for Spokane/CDA HHH
REFRESH-INTERVAL;VALUE=DURATION:PT1H
X-Robots-Tag:noindex
X-PUBLISHED-TTL:PT1H
BEGIN:VTIMEZONE
TZID:America/Los_Angeles
BEGIN:DAYLIGHT
TZOFFSETFROM:-0800
TZOFFSETTO:-0700
TZNAME:PDT
DTSTART:20230312T100000
END:DAYLIGHT
BEGIN:STANDARD
TZOFFSETFROM:-0700
TZOFFSETTO:-0800
TZNAME:PST
DTSTART:20231105T090000
END:STANDARD
BEGIN:DAYLIGHT
TZOFFSETFROM:-0800
TZOFFSETTO:-0700
TZNAME:PDT
DTSTART:20240310T100000
END:DAYLIGHT
BEGIN:STANDARD
TZOFFSETFROM:-0700
TZOFFSETTO:-0800
TZNAME:PST
DTSTART:20241103T090000
END:STANDARD
BEGIN:DAYLIGHT
TZOFFSETFROM:-0800
TZOFFSETTO:-0700
TZNAME:PDT
DTSTART:20250309T100000
END:DAYLIGHT
BEGIN:STANDARD
TZOFFSETFROM:-0700
TZOFFSETTO:-0800
TZNAME:PST
DTSTART:20251102T090000
END:STANDARD
BEGIN:DAYLIGHT
TZOFFSETFROM:-0800
TZOFFSETTO:-0700
TZNAME:PDT
DTSTART:20260308T100000
END:DAYLIGHT
BEGIN:STANDARD
TZOFFSETFROM:-0700
TZOFFSETTO:-0800
TZNAME:PST
DTSTART:20261101T090000
END:STANDARD
END:VTIMEZONE
BEGIN:VEVENT
DTSTART;TZID=America/Los_Angeles:20250108T183000
DTEND;TZID=America/Los_Angeles:20250108T210000
DTSTAMP:20260423T044856
CREATED:20241018T174618Z
LAST-MODIFIED:20250102T192408Z
UID:1168-1736361000-1736370000@spokanehhh.com
SUMMARY:January WED Hash - It's a new beer!
DESCRIPTION:Hares: Jabber the Slut & California Creamin’\nStart Location: Mike’s Bar & Grill – 21 S Dishman Mica Rd\, Spokane Valley\, WA 99206\nStart Time: 6:30pm\nHashcash: $5\nWhat to bring: Whistle\, Head(!)lamp\, chalk\, low expectations!\nDog Friendly: No
URL:https://spokanehhh.com/event/january-wed-hash-its-a-new-beer/
LOCATION:Mike’s Bar & Grill\, 21 S Dishman Mica Rd\, Spokane Valley\, WA\, 99206\, United States
CATEGORIES:IEH3,NIH3
ATTACH;FMTTYPE=image/jpeg:https://spokanehhh.com/wp-content/uploads/2024/10/penguins.jpeg
END:VEVENT
BEGIN:VEVENT
DTSTART;TZID=America/Los_Angeles:20241222T140000
DTEND;TZID=America/Los_Angeles:20241222T170000
DTSTAMP:20260423T044856
CREATED:20241018T174352Z
LAST-MODIFIED:20241215T014115Z
UID:1164-1734876000-1734886800@spokanehhh.com
SUMMARY:December SUN Hash - Merry Gispertmas
DESCRIPTION:Details \nHares: Ouch! My Balls! & Karda-She-Ain’t Start Location: Ouch and KSA’s house \n4105 W Janice Ave \nSpokane\, WA \nStart Time: 2 PM \nHashcash: $0 \nWhat to bring: Bring a shot to share for your shot stop\, a potluck item if you want\, a vessel\, warm clothes\, and a hashy Festivus attitude! \nDog Friendly: Yes!!
URL:https://spokanehhh.com/event/december-sat-hash-merry-gispertmas/
CATEGORIES:IEH3,NIH3
ATTACH;FMTTYPE=image/jpeg:https://spokanehhh.com/wp-content/uploads/2024/10/xmas1.jpeg
END:VEVENT
BEGIN:VEVENT
DTSTART;TZID=America/Los_Angeles:20241211T180000
DTEND;TZID=America/Los_Angeles:20241211T210000
DTSTAMP:20260423T044856
CREATED:20241018T174459Z
LAST-MODIFIED:20241203T190657Z
UID:1166-1733940000-1733950800@spokanehhh.com
SUMMARY:December WED Hash
DESCRIPTION:Hare: Cherry PuckerStart Location: Bulldogs Famous BBQ and Brews 5002 N Ferrall St. SpokaneStart Time: 6:00 pmHashcash: $5What to bring: Headlamp\, whistle\, mugglesDog Friendly: No
URL:https://spokanehhh.com/event/december-wed-hash/
LOCATION:Bulldogs Famous BBQ and Brews\, 5002 N Ferrall St\, Spokane\, WA\, United States
CATEGORIES:IEH3,NIH3
ATTACH;FMTTYPE=image/jpeg:https://spokanehhh.com/wp-content/uploads/2024/10/snowpeople.jpeg
END:VEVENT
BEGIN:VEVENT
DTSTART;TZID=America/Los_Angeles:20241201T120000
DTEND;TZID=America/Los_Angeles:20241201T160000
DTSTAMP:20260423T044856
CREATED:20241129T212218Z
LAST-MODIFIED:20241129T212423Z
UID:1194-1733054400-1733068800@spokanehhh.com
SUMMARY:SNASH!
DESCRIPTION:What: Snowshoe Hash or SNASH\nWhere: Mount Spokane State Park at the Hairpin Turn Parking Lot: https://maps.app.goo.gl/BztbNPa9GCHcp9F9A\nHashcash: $0\nWhat to bring: Snowshoes\, warm snowshoeing clothing\, head(!)lamp (just in case we are still out when it gets dark…we shouldn’t be)\nNote: You will need as sno-park pass: https://parks.wa.gov/sno-park-permit-vendors and you can also order/print from home.\nHares: None – we are all walking together
URL:https://spokanehhh.com/event/snash/
CATEGORIES:IEH3,NIH3
ATTACH;FMTTYPE=image/png:https://spokanehhh.com/wp-content/uploads/2024/11/snowshoeing_small.png
END:VEVENT
BEGIN:VEVENT
DTSTART;TZID=America/Los_Angeles:20241127T183000
DTEND;TZID=America/Los_Angeles:20241127T213000
DTSTAMP:20260423T044856
CREATED:20241018T174000Z
LAST-MODIFIED:20241113T183404Z
UID:1162-1732732200-1732743000@spokanehhh.com
SUMMARY:November WED Hash - PreTurkey Day Drinking
DESCRIPTION:Hare: California Creamin’ and Jabber the SlutStart Location: Shawn O’Donnell’s American Grill and Irish Pub – 719 N Monroe St\, Spokane\, WA 99201Start Time: 6:30pmHashcash: $5What to bring: ID (likely bar stop on trail)\, Head(!)lamp\, whistle\, piece of chalk\, very low expectationsDog Friendly: Nope
URL:https://spokanehhh.com/event/november-wed-hash-preturkey-day-drinking/
LOCATION:Shawn O’Donnell’s\, 724 N Monroe St\, Spokane\, WA\, 99201\, United States
CATEGORIES:IEH3,NIH3
ATTACH;FMTTYPE=image/jpeg:https://spokanehhh.com/wp-content/uploads/2024/10/turkeys2.jpeg
END:VEVENT
BEGIN:VEVENT
DTSTART;TZID=America/Los_Angeles:20241109T130000
DTEND;TZID=America/Los_Angeles:20241109T170000
DTSTAMP:20260423T044856
CREATED:20241018T173809Z
LAST-MODIFIED:20241109T212403Z
UID:1149-1731157200-1731171600@spokanehhh.com
SUMMARY:November Sat Hash
DESCRIPTION:Hare: Drunkin Duendas & NOT White ChocolateStart Location: Community PintStart Time: 1pm show 1:15ish goHashcash: $5What to bring: yourself\, virginsDog Friendly: Meh?
URL:https://spokanehhh.com/event/november-sat-hash/
CATEGORIES:IEH3
ATTACH;FMTTYPE=image/png:https://spokanehhh.com/wp-content/uploads/2024/10/FB_Hash_Event1.png
END:VEVENT
BEGIN:VEVENT
DTSTART;TZID=America/Los_Angeles:20241029T183000
DTEND;TZID=America/Los_Angeles:20241029T213000
DTSTAMP:20260423T044856
CREATED:20241007T190243Z
LAST-MODIFIED:20241008T204405Z
UID:1135-1730226600-1730237400@spokanehhh.com
SUMMARY:Halloweener Hash
DESCRIPTION:It’s the spooky season again so let’s do a Halloweener Hash!\nWe’ll start from a bar since it’s getting chillier and we’ll stay as warm as we can for as long as we can.\n\n\nStart time: 6:30pm\nStart Location: The Park Inn – 103 W 9th Ave\, Spokane\, WA 99204\nDate: 29 October 2024\nHare(s): California Creamin’\nHashcash: $5\nWhat to bring: Very low expectations\, whistle\, head(!)lamp\nDog friendly: probably not since most places won’t let us bring our doggos indoors.
URL:https://spokanehhh.com/event/spokane-hash-house-harriers-hhh-halloween/
LOCATION:The Park Inn\, 103 W 9th Ave\, Spokane\, WA\, 99204\, United States
CATEGORIES:IEH3
ATTACH;FMTTYPE=image/jpeg:https://spokanehhh.com/wp-content/uploads/2024/10/cemetery_run5.jpeg
END:VEVENT
BEGIN:VEVENT
DTSTART;TZID=America/Los_Angeles:20241016T181500
DTEND;TZID=America/Los_Angeles:20241016T211500
DTSTAMP:20260423T044856
CREATED:20241015T194234Z
LAST-MODIFIED:20241016T202241Z
UID:1144-1729102500-1729113300@spokanehhh.com
SUMMARY:Let's Hump(Day) Hash... now a DP.
DESCRIPTION:The hash is now a DP due to the number of RSVPs (not enough) so we’ll gather in honor of our visiting hasher and have a beer or two.  \nStart location: Lord Stanley’s – downtown SpokaneStart time: 6:15(ish)PMStart Date: 16 Oct 2024Hashcash: $0Hare(s)/DP Hosts: Double D and Not White ChocolateWhat to bring: You\, money for a drink or two
URL:https://spokanehhh.com/event/lets-humpday-hash/
LOCATION:Lord Stanley’s\, 108 N Washington St\, Spokane\, WA\, 99201\, United States
CATEGORIES:IEH3
ATTACH;FMTTYPE=image/png:https://spokanehhh.com/wp-content/uploads/2024/10/running_in_beers_ieh3.png
END:VEVENT
BEGIN:VEVENT
DTSTART;TZID=America/Los_Angeles:20241006T130000
DTEND;TZID=America/Los_Angeles:20241006T160000
DTSTAMP:20260423T044856
CREATED:20240919T015534Z
LAST-MODIFIED:20241003T043819Z
UID:1119-1728219600-1728230400@spokanehhh.com
SUMMARY:Fisting Spokane Hash
DESCRIPTION:“All of her fist “ will be visiting and she wants a hash. Let’s give her a hash!\n\nLocation: 15622 N Little Spokane DriveHare: Cherry PuckerTime: 1 pmHash cash: $5\nBring: whistle\, chalk\, extra shoes and socks to change into after hash\, low expectations\nBe prepared for a shiggy A to B trial that may include water crossings\, woods\, sharp pokey branches\, fields\, flat terrain\, deers and other wild animals.
URL:https://spokanehhh.com/event/fisting-spokane-hash/
LOCATION:Cherry Pucker\, 15622 N Little Spokane Dr\, Spokane\, WA\, 99208\, United States
CATEGORIES:IEH3
ATTACH;FMTTYPE=image/jpeg:https://spokanehhh.com/wp-content/uploads/2024/09/460186387_2873814342781513_4683069120064363449_n.jpg
END:VEVENT
BEGIN:VEVENT
DTSTART;TZID=America/Los_Angeles:20240930T180000
DTEND;TZID=America/Los_Angeles:20240930T210000
DTSTAMP:20260423T044856
CREATED:20240911T040020Z
LAST-MODIFIED:20241002T214046Z
UID:1085-1727719200-1727730000@spokanehhh.com
SUMMARY:Vi-Kink Hash
DESCRIPTION:It’s cooling down\, but that won’t stop us from filling our bellies with yummy beer.\n\n\nStart location: The Viking – 1221 N Stevens St\, Spokane\, WA 99201\nHashcash: $5 for yellow/orange food at the end and to cover some of our beers\nTrail: A to A-ish (will find a place for circle near A)\nStart Time: 6pm\nHare(s): California Creamin’ and Just Krista\nWhat to bring: Whistle\, headlamp\, chalk\, very low expectations\nDog friendly: Yes (on the patio)\, trail will also be pupper friendly
URL:https://spokanehhh.com/event/belly-weather-hash/
LOCATION:The Viking\, 1221 N Stevens St\, Spokane\, WA\, 99201\, United States
CATEGORIES:IEH3
ATTACH;FMTTYPE=image/jpeg:https://spokanehhh.com/wp-content/uploads/2024/09/kinky.jpeg
END:VEVENT
END:VCALENDAR