BEGIN:VCALENDAR
VERSION:2.0
PRODID:-//Spokane/CDA HHH - ECPv6.15.20//NONSGML v1.0//EN
CALSCALE:GREGORIAN
METHOD:PUBLISH
X-WR-CALNAME:Spokane/CDA HHH
X-ORIGINAL-URL:https://spokanehhh.com
X-WR-CALDESC:Events for Spokane/CDA HHH
REFRESH-INTERVAL;VALUE=DURATION:PT1H
X-Robots-Tag:noindex
X-PUBLISHED-TTL:PT1H
BEGIN:VTIMEZONE
TZID:America/Los_Angeles
BEGIN:DAYLIGHT
TZOFFSETFROM:-0800
TZOFFSETTO:-0700
TZNAME:PDT
DTSTART:20240310T100000
END:DAYLIGHT
BEGIN:STANDARD
TZOFFSETFROM:-0700
TZOFFSETTO:-0800
TZNAME:PST
DTSTART:20241103T090000
END:STANDARD
BEGIN:DAYLIGHT
TZOFFSETFROM:-0800
TZOFFSETTO:-0700
TZNAME:PDT
DTSTART:20250309T100000
END:DAYLIGHT
BEGIN:STANDARD
TZOFFSETFROM:-0700
TZOFFSETTO:-0800
TZNAME:PST
DTSTART:20251102T090000
END:STANDARD
BEGIN:DAYLIGHT
TZOFFSETFROM:-0800
TZOFFSETTO:-0700
TZNAME:PDT
DTSTART:20260308T100000
END:DAYLIGHT
BEGIN:STANDARD
TZOFFSETFROM:-0700
TZOFFSETTO:-0800
TZNAME:PST
DTSTART:20261101T090000
END:STANDARD
BEGIN:DAYLIGHT
TZOFFSETFROM:-0800
TZOFFSETTO:-0700
TZNAME:PDT
DTSTART:20270314T100000
END:DAYLIGHT
BEGIN:STANDARD
TZOFFSETFROM:-0700
TZOFFSETTO:-0800
TZNAME:PST
DTSTART:20271107T090000
END:STANDARD
END:VTIMEZONE
BEGIN:VEVENT
DTSTART;TZID=America/Los_Angeles:20250611T180000
DTEND;TZID=America/Los_Angeles:20250611T200000
DTSTAMP:20260424T031747
CREATED:20250530T181448Z
LAST-MODIFIED:20250530T181449Z
UID:1316-1749664800-1749672000@spokanehhh.com
SUMMARY:Monthly Drinking Practice to celebrate stuff!
DESCRIPTION:Setting up a monthly IEH3/NIH3 get together so we can meetup for non-running fun. June 11\, 2025Location: Community Pint – Address: 120 E Sprague Ave\, Spokane\, WA 99202Dog Friendly: YesDo they have food?  No\, but we can order in. Do they have beer?  OH YES!
URL:https://spokanehhh.com/event/monthly-drinking-practice-to-celebrate-stuff/
LOCATION:Community Pint\, 120 E Sprague Ave\, Spokane\, Washington\, 99202\, United States
END:VEVENT
BEGIN:VEVENT
DTSTART;TZID=America/Los_Angeles:20250629T160000
DTEND;TZID=America/Los_Angeles:20250629T200000
DTSTAMP:20260424T031747
CREATED:20250530T180931Z
LAST-MODIFIED:20250530T180933Z
UID:1311-1751212800-1751227200@spokanehhh.com
SUMMARY:Beers and Boobs Drinking Practice
DESCRIPTION:It’s once again Beers and Boobs Drinking Practice Time!  \n\n\n\nWhen: 29 June 2025Time: 4pmWhere: State Line Showgirls\, West Seltice Way\, Post Falls\, IDWhat to bring: Yourself and dollar bills \n\n\n\nWe will meet on the bar side.  \n\n\n\nWhat not to wear: athletic wear\, excessively baggy clothing\, or torn attire to ensure entry.
URL:https://spokanehhh.com/event/beers-and-boobs-drinking-practice/
LOCATION:State Line Showgirls\, 6727 W. Seltice Way\, Post Falls\, Idaho\, 83854\, United States
END:VEVENT
BEGIN:VEVENT
DTSTART;TZID=America/Los_Angeles:20260306T180000
DTEND;TZID=America/Los_Angeles:20260307T220000
DTSTAMP:20260424T031747
CREATED:20260228T221042Z
LAST-MODIFIED:20260307T230651Z
UID:1321-1772820000-1772920800@spokanehhh.com
SUMMARY:2026 IEH3 RDR PubCrawl and Hash
DESCRIPTION:Friday night pub crawl in the Garland District \n\n\n\nStart time: 6pm \n\n\n\nLocation: Rick’s Ringside – 921 W Garland Ave\, Spokane\, WA 99205 \n\n\n\nHash cash: none\, pay as you go \n\n\n\n———- \n\n\n\nSaturday Red Dress Run \n\n\n\nStart time: 3pm \n\n\n\nLocation: The Bar @ Pizza Pipeline – 1404 North Division St.\, Spokane\, WA \n\n\n\nHash cash: $10 \n\n\n\nDetails: You know the drill dress sexy as hell. It will be difficult to find shiggy. \n\n\n\nDog friendly: yes
URL:https://spokanehhh.com/event/2026-ieh3-rdr-pubcrawl-and-hash/
LOCATION:Idaho
END:VEVENT
BEGIN:VEVENT
DTSTART;TZID=America/Los_Angeles:20260413T183000
DTEND;TZID=America/Los_Angeles:20260413T220000
DTSTAMP:20260424T031747
CREATED:20260301T183855Z
LAST-MODIFIED:20260301T183856Z
UID:1331-1776105000-1776117600@spokanehhh.com
SUMMARY:Putting our hash tip into Idaho for a good cause!
DESCRIPTION:I-Feel Tower is hashing in all 50 states and we’re helping him with a hash in Idaho! We’ll meet up in Post Falls for a fun little hash to help with this achievement.  \n\n\n\nLocation: Post Falls BrewingTime: 630pmWhat to bring: Head(!)lamp\, whistle\, low expectations Hare(s): TBDDog Friendly: MaybeHash Cash: $5 \n\n\n\nMore to cum.
URL:https://spokanehhh.com/event/putting-our-hash-tip-into-idaho-for-a-good-cause/
LOCATION:Post Falls Brewing\, 112 N Spokane St\, Post Falls\, Idaho\, 83854\, United States
END:VEVENT
END:VCALENDAR