BEGIN:VCALENDAR
VERSION:2.0
PRODID:-//Spokane/CDA HHH - ECPv6.15.20//NONSGML v1.0//EN
CALSCALE:GREGORIAN
METHOD:PUBLISH
X-WR-CALNAME:Spokane/CDA HHH
X-ORIGINAL-URL:https://spokanehhh.com
X-WR-CALDESC:Events for Spokane/CDA HHH
REFRESH-INTERVAL;VALUE=DURATION:PT1H
X-Robots-Tag:noindex
X-PUBLISHED-TTL:PT1H
BEGIN:VTIMEZONE
TZID:America/Los_Angeles
BEGIN:DAYLIGHT
TZOFFSETFROM:-0800
TZOFFSETTO:-0700
TZNAME:PDT
DTSTART:20230312T100000
END:DAYLIGHT
BEGIN:STANDARD
TZOFFSETFROM:-0700
TZOFFSETTO:-0800
TZNAME:PST
DTSTART:20231105T090000
END:STANDARD
BEGIN:DAYLIGHT
TZOFFSETFROM:-0800
TZOFFSETTO:-0700
TZNAME:PDT
DTSTART:20240310T100000
END:DAYLIGHT
BEGIN:STANDARD
TZOFFSETFROM:-0700
TZOFFSETTO:-0800
TZNAME:PST
DTSTART:20241103T090000
END:STANDARD
BEGIN:DAYLIGHT
TZOFFSETFROM:-0800
TZOFFSETTO:-0700
TZNAME:PDT
DTSTART:20250309T100000
END:DAYLIGHT
BEGIN:STANDARD
TZOFFSETFROM:-0700
TZOFFSETTO:-0800
TZNAME:PST
DTSTART:20251102T090000
END:STANDARD
END:VTIMEZONE
BEGIN:VEVENT
DTSTART;TZID=America/Los_Angeles:20241222T140000
DTEND;TZID=America/Los_Angeles:20241222T170000
DTSTAMP:20260424T075149
CREATED:20241018T174352Z
LAST-MODIFIED:20241215T014115Z
UID:1164-1734876000-1734886800@spokanehhh.com
SUMMARY:December SUN Hash - Merry Gispertmas
DESCRIPTION:Details \nHares: Ouch! My Balls! & Karda-She-Ain’t Start Location: Ouch and KSA’s house \n4105 W Janice Ave \nSpokane\, WA \nStart Time: 2 PM \nHashcash: $0 \nWhat to bring: Bring a shot to share for your shot stop\, a potluck item if you want\, a vessel\, warm clothes\, and a hashy Festivus attitude! \nDog Friendly: Yes!!
URL:https://spokanehhh.com/event/december-sat-hash-merry-gispertmas/
LOCATION:Washington
CATEGORIES:IEH3,NIH3
ATTACH;FMTTYPE=image/jpeg:https://spokanehhh.com/wp-content/uploads/2024/10/xmas1.jpeg
END:VEVENT
END:VCALENDAR