BEGIN:VCALENDAR
VERSION:2.0
PRODID:-//Spokane/CDA HHH - ECPv6.15.20//NONSGML v1.0//EN
CALSCALE:GREGORIAN
METHOD:PUBLISH
X-ORIGINAL-URL:https://spokanehhh.com
X-WR-CALDESC:Events for Spokane/CDA HHH
REFRESH-INTERVAL;VALUE=DURATION:PT1H
X-Robots-Tag:noindex
X-PUBLISHED-TTL:PT1H
BEGIN:VTIMEZONE
TZID:America/Los_Angeles
BEGIN:DAYLIGHT
TZOFFSETFROM:-0800
TZOFFSETTO:-0700
TZNAME:PDT
DTSTART:20230312T100000
END:DAYLIGHT
BEGIN:STANDARD
TZOFFSETFROM:-0700
TZOFFSETTO:-0800
TZNAME:PST
DTSTART:20231105T090000
END:STANDARD
BEGIN:DAYLIGHT
TZOFFSETFROM:-0800
TZOFFSETTO:-0700
TZNAME:PDT
DTSTART:20240310T100000
END:DAYLIGHT
BEGIN:STANDARD
TZOFFSETFROM:-0700
TZOFFSETTO:-0800
TZNAME:PST
DTSTART:20241103T090000
END:STANDARD
BEGIN:DAYLIGHT
TZOFFSETFROM:-0800
TZOFFSETTO:-0700
TZNAME:PDT
DTSTART:20250309T100000
END:DAYLIGHT
BEGIN:STANDARD
TZOFFSETFROM:-0700
TZOFFSETTO:-0800
TZNAME:PST
DTSTART:20251102T090000
END:STANDARD
END:VTIMEZONE
BEGIN:VEVENT
DTSTART;TZID=America/Los_Angeles:20241201T120000
DTEND;TZID=America/Los_Angeles:20241201T160000
DTSTAMP:20260424T075944
CREATED:20241129T212218Z
LAST-MODIFIED:20241129T212423Z
UID:1194-1733054400-1733068800@spokanehhh.com
SUMMARY:SNASH!
DESCRIPTION:What: Snowshoe Hash or SNASH\nWhere: Mount Spokane State Park at the Hairpin Turn Parking Lot: https://maps.app.goo.gl/BztbNPa9GCHcp9F9A\nHashcash: $0\nWhat to bring: Snowshoes\, warm snowshoeing clothing\, head(!)lamp (just in case we are still out when it gets dark…we shouldn’t be)\nNote: You will need as sno-park pass: https://parks.wa.gov/sno-park-permit-vendors and you can also order/print from home.\nHares: None – we are all walking together
URL:https://spokanehhh.com/event/snash/
LOCATION:Washington
CATEGORIES:IEH3,NIH3
ATTACH;FMTTYPE=image/png:https://spokanehhh.com/wp-content/uploads/2024/11/snowshoeing_small.png
END:VEVENT
END:VCALENDAR