BEGIN:VCALENDAR
VERSION:2.0
PRODID:-//Spokane/CDA HHH - ECPv6.15.20//NONSGML v1.0//EN
CALSCALE:GREGORIAN
METHOD:PUBLISH
X-ORIGINAL-URL:https://spokanehhh.com
X-WR-CALDESC:Events for Spokane/CDA HHH
REFRESH-INTERVAL;VALUE=DURATION:PT1H
X-Robots-Tag:noindex
X-PUBLISHED-TTL:PT1H
BEGIN:VTIMEZONE
TZID:America/Los_Angeles
BEGIN:DAYLIGHT
TZOFFSETFROM:-0800
TZOFFSETTO:-0700
TZNAME:PDT
DTSTART:20240310T100000
END:DAYLIGHT
BEGIN:STANDARD
TZOFFSETFROM:-0700
TZOFFSETTO:-0800
TZNAME:PST
DTSTART:20241103T090000
END:STANDARD
BEGIN:DAYLIGHT
TZOFFSETFROM:-0800
TZOFFSETTO:-0700
TZNAME:PDT
DTSTART:20250309T100000
END:DAYLIGHT
BEGIN:STANDARD
TZOFFSETFROM:-0700
TZOFFSETTO:-0800
TZNAME:PST
DTSTART:20251102T090000
END:STANDARD
BEGIN:DAYLIGHT
TZOFFSETFROM:-0800
TZOFFSETTO:-0700
TZNAME:PDT
DTSTART:20260308T100000
END:DAYLIGHT
BEGIN:STANDARD
TZOFFSETFROM:-0700
TZOFFSETTO:-0800
TZNAME:PST
DTSTART:20261101T090000
END:STANDARD
END:VTIMEZONE
BEGIN:VEVENT
DTSTART;TZID=America/Los_Angeles:20250419T160000
DTEND;TZID=America/Los_Angeles:20250420T100000
DTSTAMP:20260424T133952
CREATED:20250128T170719Z
LAST-MODIFIED:20250308T173732Z
UID:1234-1745078400-1745143200@spokanehhh.com
SUMMARY:Dante's Prick Hash
DESCRIPTION:A few years ago we had a fun hash in Wallace\, ID and it’s time for another.\n\nDante’s Prick in honor of our “Just the Tip” friends in northern ID. Go re-watch “Dante’s Peak”\, this 1997 gem to revisit all of your favorite Wallace locations.\n\nWe’re also planning on an overnight at The Ryan Hotel since it’s a haunted hotel and I didn’t like to not have another drink since I had to drive people (Safety 1st?).\n\n\nWhen: April 19\, 2025 (Placeholder until the poll results are completed)\nWhere: Wallace\, ID\nHares: Jabber the Slut\, California Creamin’\nHash Time: TBD based on check-in time so likely 4pm start?\nHash Hotel: The Ryan Hotel – This is a non-party hotel\, so keep it down! \nHash Cash: TBD\, but likely $5 or a little more if we have a hangover hash\nWhat to bring: TBD\, but likely the usual – whistle\, chalk\, head(!)lamp\n\n\nMore to come…
URL:https://spokanehhh.com/event/april-haunting-hash/
CATEGORIES:IEH3,NIH3
ATTACH;FMTTYPE=image/jpeg:https://spokanehhh.com/wp-content/uploads/2025/01/IMG_0529.jpg
END:VEVENT
BEGIN:VEVENT
DTSTART;TZID=America/Los_Angeles:20250503T130000
DTEND;TZID=America/Los_Angeles:20250503T170000
DTSTAMP:20260424T133952
CREATED:20250501T220259Z
LAST-MODIFIED:20250501T220356Z
UID:1302-1746277200-1746291600@spokanehhh.com
SUMMARY:Blooming Hash!
DESCRIPTION:Join us for our anal Bloomsday hash!  \n\n\n\n\n\n\n\n\nThe Blooming Hash will start at Ricks Ringside pub on Garland at 1 pm.\n\n921 W Garland Ave\, Spokane\, WA 99205\, USA\n\n\n\n\n\nThe trail will run through the north side neighborhood.\n\n\n\nThe hare will be Can’t smell\, can’t tell AKA Cherry Pucker.\n\n\n\nCum join BD Tapper and myself for the annual event before Bloomsday.\n\n\n\nHash cash $5.
URL:https://spokanehhh.com/event/blooming-hash/
LOCATION:Rick’s Ringside Pub\, 921 W Garland Ave\, Spokane\, Washington\, 99205\, United States
CATEGORIES:IEH3,NIH3
ATTACH;FMTTYPE=image/png:https://spokanehhh.com/wp-content/uploads/2025/05/ChatGPT-Image-May-1-2025-at-02_28_25-PM.png
END:VEVENT
BEGIN:VEVENT
DTSTART;TZID=America/Los_Angeles:20250510T130000
DTEND;TZID=America/Los_Angeles:20250510T170000
DTSTAMP:20260424T133952
CREATED:20250421T162417Z
LAST-MODIFIED:20250510T154506Z
UID:1299-1746882000-1746896400@spokanehhh.com
SUMMARY:May Weekend Hash! Let’s all Get Me Off!!!
DESCRIPTION:The doctor is in and ready to get everyone off!  \n\n\n\n\n\nHare(s): Dr. Get Me Off\n\n\n\nLocation: 4565 E Seltice Way\, Post Falls\, ID 83854\n\n\n\nDate/Time: 10 May 2025 / 1pm\n\n\n\nHashcash: $5\n\n\n\nWhat to bring:  Whistle\, chalk\, low expectations\n\n\n\nDog friendly
URL:https://spokanehhh.com/event/may-weekend-hash-lets-all-get-me-off/
LOCATION:Paws N Brews\, 4565 E Seltice Way\, Post Falls\, Washington\, 83854\, United States
CATEGORIES:IEH3,NIH3
END:VEVENT
END:VCALENDAR