BEGIN:VCALENDAR
VERSION:2.0
PRODID:-//Spokane/CDA HHH - ECPv6.15.20//NONSGML v1.0//EN
CALSCALE:GREGORIAN
METHOD:PUBLISH
X-ORIGINAL-URL:https://spokanehhh.com
X-WR-CALDESC:Events for Spokane/CDA HHH
REFRESH-INTERVAL;VALUE=DURATION:PT1H
X-Robots-Tag:noindex
X-PUBLISHED-TTL:PT1H
BEGIN:VTIMEZONE
TZID:America/Los_Angeles
BEGIN:DAYLIGHT
TZOFFSETFROM:-0800
TZOFFSETTO:-0700
TZNAME:PDT
DTSTART:20230312T100000
END:DAYLIGHT
BEGIN:STANDARD
TZOFFSETFROM:-0700
TZOFFSETTO:-0800
TZNAME:PST
DTSTART:20231105T090000
END:STANDARD
BEGIN:DAYLIGHT
TZOFFSETFROM:-0800
TZOFFSETTO:-0700
TZNAME:PDT
DTSTART:20240310T100000
END:DAYLIGHT
BEGIN:STANDARD
TZOFFSETFROM:-0700
TZOFFSETTO:-0800
TZNAME:PST
DTSTART:20241103T090000
END:STANDARD
BEGIN:DAYLIGHT
TZOFFSETFROM:-0800
TZOFFSETTO:-0700
TZNAME:PDT
DTSTART:20250309T100000
END:DAYLIGHT
BEGIN:STANDARD
TZOFFSETFROM:-0700
TZOFFSETTO:-0800
TZNAME:PST
DTSTART:20251102T090000
END:STANDARD
END:VTIMEZONE
BEGIN:VEVENT
DTSTART;TZID=America/Los_Angeles:20241109T130000
DTEND;TZID=America/Los_Angeles:20241109T170000
DTSTAMP:20260424T090345
CREATED:20241018T173809Z
LAST-MODIFIED:20241109T212403Z
UID:1149-1731157200-1731171600@spokanehhh.com
SUMMARY:November Sat Hash
DESCRIPTION:Hare: Drunkin Duendas & NOT White ChocolateStart Location: Community PintStart Time: 1pm show 1:15ish goHashcash: $5What to bring: yourself\, virginsDog Friendly: Meh?
URL:https://spokanehhh.com/event/november-sat-hash/
LOCATION:Washington
CATEGORIES:IEH3
ATTACH;FMTTYPE=image/png:https://spokanehhh.com/wp-content/uploads/2024/10/FB_Hash_Event1.png
END:VEVENT
END:VCALENDAR