BEGIN:VCALENDAR
VERSION:2.0
PRODID:-//Spokane/CDA HHH - ECPv6.15.20//NONSGML v1.0//EN
CALSCALE:GREGORIAN
METHOD:PUBLISH
X-WR-CALNAME:Spokane/CDA HHH
X-ORIGINAL-URL:https://spokanehhh.com
X-WR-CALDESC:Events for Spokane/CDA HHH
REFRESH-INTERVAL;VALUE=DURATION:PT1H
X-Robots-Tag:noindex
X-PUBLISHED-TTL:PT1H
BEGIN:VTIMEZONE
TZID:America/Los_Angeles
BEGIN:DAYLIGHT
TZOFFSETFROM:-0800
TZOFFSETTO:-0700
TZNAME:PDT
DTSTART:20240310T100000
END:DAYLIGHT
BEGIN:STANDARD
TZOFFSETFROM:-0700
TZOFFSETTO:-0800
TZNAME:PST
DTSTART:20241103T090000
END:STANDARD
BEGIN:DAYLIGHT
TZOFFSETFROM:-0800
TZOFFSETTO:-0700
TZNAME:PDT
DTSTART:20250309T100000
END:DAYLIGHT
BEGIN:STANDARD
TZOFFSETFROM:-0700
TZOFFSETTO:-0800
TZNAME:PST
DTSTART:20251102T090000
END:STANDARD
BEGIN:DAYLIGHT
TZOFFSETFROM:-0800
TZOFFSETTO:-0700
TZNAME:PDT
DTSTART:20260308T100000
END:DAYLIGHT
BEGIN:STANDARD
TZOFFSETFROM:-0700
TZOFFSETTO:-0800
TZNAME:PST
DTSTART:20261101T090000
END:STANDARD
END:VTIMEZONE
BEGIN:VEVENT
DTSTART;TZID=America/Los_Angeles:20250209T120000
DTEND;TZID=America/Los_Angeles:20250209T153000
DTSTAMP:20260424T025541
CREATED:20250116T002653Z
LAST-MODIFIED:20250208T220450Z
UID:1212-1739102400-1739115000@spokanehhh.com
SUMMARY:Cancelled: February Sunday Weekend Hash
DESCRIPTION:It’s Sunday Hash time!  Yes\, it’s “super” balls Sunday\, but we should be done in time for those sportsball lovers to love their balls. \nWe swap Saturday/Sunday each month to mix it up and to make sure those who can’t make it one day can make it the other. \nHare(s): Backdoor TapHerDate / Time:  February 9\, 2025 / 12pmLocation: Hashcash: $5What to bring: Whistle\, chalk\, head(!)lampDog Friendly: Probably not.  It’s cold AF these days so let your pup stay at home and stay warm while you’re outside freezing.
URL:https://spokanehhh.com/event/february-weekend-hash/
LOCATION:Washington
CATEGORIES:IEH3,NIH3
ATTACH;FMTTYPE=image/jpeg:https://spokanehhh.com/wp-content/uploads/2025/01/footyball2.jpeg
END:VEVENT
BEGIN:VEVENT
DTSTART;TZID=America/Los_Angeles:20250218T183000
DTEND;TZID=America/Los_Angeles:20250218T213000
DTSTAMP:20260424T025541
CREATED:20250116T002916Z
LAST-MODIFIED:20250205T012856Z
UID:1215-1739903400-1739914200@spokanehhh.com
SUMMARY:Two Finger Tuesday Hash
DESCRIPTION:It’s Tuesday Hash time! \nWe swap Tuesday/Wednesday each month to mix it up and to make sure those who can’t make one day can make it another. \nHare(s): TBD\nDate / Time:  February 18\, 2025 / 6:30pm\nLocation:  TBD\nHashcash: $5\nWhat to bring: Whistle\, chalk\, head(!)lamp\nDog Friendly: TBD \nWill update when we have more details:
URL:https://spokanehhh.com/event/two-finger-tuesday-hash/
LOCATION:Washington
CATEGORIES:IEH3,NIH3
ATTACH;FMTTYPE=image/jpeg:https://spokanehhh.com/wp-content/uploads/2025/01/IMG_9104.jpg
END:VEVENT
END:VCALENDAR