BEGIN:VCALENDAR
VERSION:2.0
PRODID:-//Spokane/CDA HHH - ECPv6.15.20//NONSGML v1.0//EN
CALSCALE:GREGORIAN
METHOD:PUBLISH
X-WR-CALNAME:Spokane/CDA HHH
X-ORIGINAL-URL:https://spokanehhh.com
X-WR-CALDESC:Events for Spokane/CDA HHH
REFRESH-INTERVAL;VALUE=DURATION:PT1H
X-Robots-Tag:noindex
X-PUBLISHED-TTL:PT1H
BEGIN:VTIMEZONE
TZID:America/Los_Angeles
BEGIN:DAYLIGHT
TZOFFSETFROM:-0800
TZOFFSETTO:-0700
TZNAME:PDT
DTSTART:20240310T100000
END:DAYLIGHT
BEGIN:STANDARD
TZOFFSETFROM:-0700
TZOFFSETTO:-0800
TZNAME:PST
DTSTART:20241103T090000
END:STANDARD
BEGIN:DAYLIGHT
TZOFFSETFROM:-0800
TZOFFSETTO:-0700
TZNAME:PDT
DTSTART:20250309T100000
END:DAYLIGHT
BEGIN:STANDARD
TZOFFSETFROM:-0700
TZOFFSETTO:-0800
TZNAME:PST
DTSTART:20251102T090000
END:STANDARD
BEGIN:DAYLIGHT
TZOFFSETFROM:-0800
TZOFFSETTO:-0700
TZNAME:PDT
DTSTART:20260308T100000
END:DAYLIGHT
BEGIN:STANDARD
TZOFFSETFROM:-0700
TZOFFSETTO:-0800
TZNAME:PST
DTSTART:20261101T090000
END:STANDARD
END:VTIMEZONE
BEGIN:VEVENT
DTSTART;TZID=America/Los_Angeles:20250315T130000
DTEND;TZID=America/Los_Angeles:20250315T160000
DTSTAMP:20260424T032232
CREATED:20250308T173241Z
LAST-MODIFIED:20250308T173243Z
UID:1293-1742043600-1742054400@spokanehhh.com
SUMMARY:Ides of March Hash!
DESCRIPTION:When: Saturday\, 3-15-25\, 1pm \n\n\n\n\n\n\n\nWhere: T’s Lounge \n\n\n\nCost: $5 hash cash \n\n\n\nHare: Waffle Stomp
URL:https://spokanehhh.com/event/ides-of-march-hash/
LOCATION:T’s Lounge\, 703 N Monroe St Suite A\, Spokane\, Washington\, 99201\, United States
ATTACH;FMTTYPE=image/jpeg:https://spokanehhh.com/wp-content/uploads/2025/03/479182098_3016172048541651_2318584709397000567_n-2.jpg
END:VEVENT
END:VCALENDAR